

BEGIN:VCALENDAR
VERSION:2.0
PRODID:-//hacksw/handcal//NONSGML v1.0//EN
CALSCALE:GREGORIAN
BEGIN:VEVENT
DTEND:20160427T194500
UID:5e58a14b358de
DTSTAMP:20200228T161243
LOCATION:UWA\, Wesfarmers Lecture Theatre 35 Stirling Highway Crawley  WA
DESCRIPTION:Economic Models: Facts\,&nbsp\;Artefact's or Fictions?




Mary S. Morgan is Professor of History and Philosophy of Economics at the London School of Economics and Vice President (Publications) at the British Academy. She also holds a professorial appointment at the University of Amsterdam and is a visiting fellow at the University of Pennsylvania.
Mary&rsquo\;s major area of scholarship is the history of economic and econometric ideas. Her recent award winning book\, The World in the Model (Cambridge University Press\, 2012)\, considers modelling as a method of enquiry\, the imagining and imaging of economic ideas (to consider the way that images emerge and are developed over time to give form\, and greater clarity\, to economic thinking)\, model experiments\, the uses of simulations and a range of other issues.

&nbsp\;&nbsp\; 



This Shann Memorial Lecture is presented as part of the Economic Society of Australia&rsquo\;s 2016 Eminent Speaker Series. A flyer for this event can be found here - 2016 Shann Memorial Lecture Invitation



&nbsp\;Proudly brought to you by UWA Business School and The Economic Society of Australia&nbsp\;
&nbsp\; &nbsp\; &nbsp\;



Click here to register Online: 2016 Shann Memorial Lecture
&nbsp\;
&nbsp\;
URL;VALUE=URI:http://esawa.org.au/event/17223
SUMMARY:Shann Memorial Lecture
DTSTART:20160427T180000
END:VEVENT
END:VCALENDAR

